BEGIN:VCALENDAR
VERSION:2.0
PRODID:-//Γέφυρες Γνώσης και Συνεργασίας - ECPv5.16.1.1//NONSGML v1.0//EN
CALSCALE:GREGORIAN
METHOD:PUBLISH
X-ORIGINAL-URL:https://kb-az.ekt.gr
X-WR-CALDESC:Γέφυρες Γνώσης και Συνεργασίας - Εκδηλώσεις
REFRESH-INTERVAL;VALUE=DURATION:PT1H
X-Robots-Tag:noindex
X-PUBLISHED-TTL:PT1H
BEGIN:VTIMEZONE
TZID:Europe/Athens
BEGIN:DAYLIGHT
TZOFFSETFROM:+0200
TZOFFSETTO:+0300
TZNAME:EEST
DTSTART:20220327T010000
END:DAYLIGHT
BEGIN:STANDARD
TZOFFSETFROM:+0300
TZOFFSETTO:+0200
TZNAME:EET
DTSTART:20221030T010000
END:STANDARD
END:VTIMEZONE
BEGIN:VEVENT
DTSTART;TZID=Europe/Athens:20221011T150000
DTEND;TZID=Europe/Athens:20221011T160000
DTSTAMP:20260420T212815
CREATED:20220920T100951Z
LAST-MODIFIED:20220920T103135Z
UID:11699-1665500400-1665504000@kb-az.ekt.gr
SUMMARY:knowledgebridges.gr: Εργαλεία συνεργασίας μεταξύ Ελλήνων σε όλον τον κόσμο
DESCRIPTION:Το Εθνικό Κέντρο Τεκμηρίωσης και Ηλεκτρονικού Περιεχομένου (ΕΚΤ) στο πλαίσιο της Πρωτοβουλίας «Γέφυρες Γνώσης και Συνεργασίας» σας προσκαλεί σε webinar παρουσίασης των υπηρεσιών που μπορείτε να λάβετε από την Ψηφιακή Πλατφόρμα www.knowledgebridges.gr της Πρωτοβουλίας\, στις 11 Οκτωβρίου 2022 στις 15:00. \nΣτο σεμινάριο θα μάθετε αναλυτικά πώς να:\n• αναζητήσετε συνεργάτη ή τη θέση εργασίας που σας ενδιαφέρει\n• λάβετε εξατομικευμένη καθοδήγηση για προσωπική και επαγγελματική εξέλιξη ή να γίνετε μέντορας\n• βρείτε πληροφορίες για χρηματοδοτικές ευκαιρίες\, υποτροφίες σε Ελλάδα και εξωτερικό\, χρήσιμες έρευνες και σεμινάρια κ.ά. \nΣτο σεμινάριο οι συμμετέχοντες θα έχουν την ευκαιρία να ενημερωθούν για τον τρόπο λήψης των υπηρεσιών και να λύσουν σε πραγματικό χρόνο τυχόν απορίες. \nΤο σεμινάριο θα πραγματοποιηθεί διαδικτυακά μέσω zoom. \nH συμμετοχή στο webinar είναι δωρεάν\, ωστόσο απαιτείται προεγγραφή στον σύνδεσμο εδώ. \nΤέλος\, σημειώνεται ότι το σεμινάριο παρέχεται για τα μέλη του δικτύου της Πρωτοβουλίας. Εάν επιθυμείς να γίνεις μέλος και να έχεις πρόσβαση στις υπηρεσίες δικτύωσης και συνεργασίας κάνε εγγραφή (φυσικά ή/και νομικά πρόσωπα) εδώ: https://www.knowledgebridges.gr/register/ \nΛίγα λόγια για την Πρωτοβουλία «Γέφυρες Γνώσης και Συνεργασίας»\nΗ Πρωτοβουλία «Γέφυρες Γνώσης και Συνεργασίας» (www.knowledgebridges.gr)\, που υλοποιείται από το Εθνικό Κέντρο Τεκμηρίωσης και Ηλεκτρονικού Περιεχομένου (ΕΚΤ) με την υποστήριξη του Υπουργείου Ανάπτυξης και Επενδύσεων\, έχει στόχο τη δικτύωση των Ελλήνων ανεξαρτήτως του τόπου διαμονής και επαγγελματικής τους απασχόλησης ώστε να συμβάλει στην ενίσχυση των δεσμών συνεργασίας μεταξύ τους και στην ανάπτυξη της χώρας. Ειδοποιός διαφορά της Πρωτοβουλίας\, σε σύγκριση με άλλες αντίστοιχες εθνικές και διεθνείς πρωτοβουλίες\, είναι ότι δίνει έμφαση πρωτίστως στην αξιοποίηση της γνώσης και τεχνογνωσίας των Ελλήνων που δραστηριοποιούνται στο εξωτερικό\, και όχι κατ’ ανάγκη ή αποκλειστικά στον επαναπατρισμό τους.\nΗ Πρωτοβουλία αξιοποιεί τη συσσωρευμένη εμπειρία\, την τεχνογνωσία\, το εξειδικευμένο στελεχιακό δυναμικό\, αλλά και τα εργαλεία και την ψηφιακή υποδομή που διαθέτει το ΕΚΤ. Στο πλαίσιο της Πρωτοβουλίας και με κεντρικό άξονα τη λειτουργία μιας σύγχρονης ψηφιακής πλατφόρμας\, παρέχονται στοχευμένες υπηρεσίες και υλοποιούνται δράσεις και εκδηλώσεις\, που καλύπτουν τους ακόλουθους τομείς: ενίσχυση δικτύωσης\, προβολή των Ελλήνων εντός και εκτός χώρας\, χαρτογράφηση ανθρώπινου δυναμικού\, παροχή εξειδικευμένης πληροφόρησης.\nΓια οποιαδήποτε πληροφορία μπορείτε να στείλετε email στο info@knowledgesbridges.gr
URL:https://kb-az.ekt.gr/events/knowledgebridges-gr-ergaleia-synergasias-metaxy-ellinon-se-olon-ton-kosmo/
ATTACH;FMTTYPE=image/jpeg:https://kb-az.ekt.gr/wp-content/uploads/2022/09/Webinar_gss_SEPT_22_900x500-scaled.jpg
END:VEVENT
END:VCALENDAR